BEGIN:VCALENDAR
VERSION:2.0
PRODID:-//Generation Builders Ministries - ECPv6.5.0//NONSGML v1.0//EN
CALSCALE:GREGORIAN
METHOD:PUBLISH
X-ORIGINAL-URL:http://genb2.pen9creative.co.uk
X-WR-CALDESC:Events for Generation Builders Ministries
REFRESH-INTERVAL;VALUE=DURATION:PT1H
X-Robots-Tag:noindex
X-PUBLISHED-TTL:PT1H
BEGIN:VTIMEZONE
TZID:Europe/London
BEGIN:DAYLIGHT
TZOFFSETFROM:+0000
TZOFFSETTO:+0100
TZNAME:BST
DTSTART:20190331T010000
END:DAYLIGHT
BEGIN:STANDARD
TZOFFSETFROM:+0100
TZOFFSETTO:+0000
TZNAME:GMT
DTSTART:20191027T010000
END:STANDARD
END:VTIMEZONE
BEGIN:VEVENT
DTSTART;VALUE=DATE:20190517
DTEND;VALUE=DATE:20190519
DTSTAMP:20260425T225643
CREATED:20190402T084646Z
LAST-MODIFIED:20190402T084646Z
UID:1667-1558051200-1558223999@genb2.pen9creative.co.uk
SUMMARY:Journey Life Center\, Richmond\, Indiana
DESCRIPTION:Friday-Saturday 17th-18th May \nJourney Life Center\, Richmond\, Indiana
URL:http://genb2.pen9creative.co.uk/events/journey-life-center-richmond-indiana/
CATEGORIES:International Event
END:VEVENT
BEGIN:VEVENT
DTSTART;TZID=Europe/London:20190519T180000
DTEND;TZID=Europe/London:20190519T210000
DTSTAMP:20260425T225643
CREATED:20190402T084747Z
LAST-MODIFIED:20190402T084747Z
UID:1669-1558288800-1558299600@genb2.pen9creative.co.uk
SUMMARY:Robinwood Assembly of God\,IN\, USA
DESCRIPTION:Sunday 19th May \nRobinwood Assembly of God\, Robinson\, Illinois\n6:00pm
URL:http://genb2.pen9creative.co.uk/events/robinwood-assembly-of-godin-usa/
CATEGORIES:International Event
END:VEVENT
BEGIN:VEVENT
DTSTART;VALUE=DATE:20190520
DTEND;VALUE=DATE:20190525
DTSTAMP:20260425T225643
CREATED:20190402T084815Z
LAST-MODIFIED:20190402T084815Z
UID:1671-1558310400-1558742399@genb2.pen9creative.co.uk
SUMMARY:That Church\, Clinton\, Iowa
DESCRIPTION:Tuesday – Friday 20th-24th May \nThat Church\, Clinton\, Iowa
URL:http://genb2.pen9creative.co.uk/events/that-church-clinton-iowa/
CATEGORIES:International Event
END:VEVENT
BEGIN:VEVENT
DTSTART;TZID=Europe/London:20190526T110000
DTEND;TZID=Europe/London:20190526T130000
DTSTAMP:20260425T225643
CREATED:20190402T085009Z
LAST-MODIFIED:20190402T085009Z
UID:1673-1558868400-1558875600@genb2.pen9creative.co.uk
SUMMARY:City On A Hill\, Ohio\, USA
DESCRIPTION:Sunday 26th May: City On A Hill\, Cincinnati\, Ohio (AM)
URL:http://genb2.pen9creative.co.uk/events/city-on-a-hill-ohio-usa/
CATEGORIES:International Event
END:VEVENT
BEGIN:VEVENT
DTSTART;TZID=Europe/London:20190526T160000
DTEND;TZID=Europe/London:20190526T180000
DTSTAMP:20260425T225643
CREATED:20190402T085046Z
LAST-MODIFIED:20190402T085046Z
UID:1675-1558886400-1558893600@genb2.pen9creative.co.uk
SUMMARY:Hispanic Service\, Heritage Fellowship\, Kentucky\, USA
DESCRIPTION:Sunday 26th May: Hispanic Service\, Heritage Fellowship\, Florence\, Kentucky (PM)
URL:http://genb2.pen9creative.co.uk/events/hispanic-service-heritage-fellowship-kentucky-usa/
CATEGORIES:International Event
END:VEVENT
BEGIN:VEVENT
DTSTART;VALUE=DATE:20190528
DTEND;VALUE=DATE:20190530
DTSTAMP:20260425T225643
CREATED:20190402T085121Z
LAST-MODIFIED:20190402T085121Z
UID:1677-1559001600-1559174399@genb2.pen9creative.co.uk
SUMMARY:Sikeston Convention Center\, Sikeston\, Missouri
DESCRIPTION:Tuesday-Wednesday 28th-29th May: Sikeston Convention Center\, Sikeston\, Missouri (PM)
URL:http://genb2.pen9creative.co.uk/events/sikeston-convention-center-sikeston-missouri/
CATEGORIES:International Event
END:VEVENT
BEGIN:VEVENT
DTSTART;VALUE=DATE:20190530
DTEND;VALUE=DATE:20190531
DTSTAMP:20260425T225643
CREATED:20190402T085141Z
LAST-MODIFIED:20190402T085141Z
UID:1679-1559174400-1559260799@genb2.pen9creative.co.uk
SUMMARY:Crusade Center\, Dexter\, Missouri
DESCRIPTION:Thursday 30th May: Crusade Center\, Dexter\, Missouri (PM)
URL:http://genb2.pen9creative.co.uk/events/crusade-center-dexter-missouri/
CATEGORIES:International Event
END:VEVENT
BEGIN:VEVENT
DTSTART;VALUE=DATE:20190531
DTEND;VALUE=DATE:20190601
DTSTAMP:20260425T225643
CREATED:20190402T085201Z
LAST-MODIFIED:20190402T085201Z
UID:1681-1559260800-1559347199@genb2.pen9creative.co.uk
SUMMARY:The Well At New Covenant\, Providence\, Kentucky
DESCRIPTION:Friday 31st May: The Well At New Covenant\, Providence\, Kentucky (PM)
URL:http://genb2.pen9creative.co.uk/events/the-well-at-new-covenant-providence-kentucky/
CATEGORIES:International Event
END:VEVENT
END:VCALENDAR