BEGIN:VCALENDAR
VERSION:2.0
PRODID:-//Generation Builders Ministries - ECPv6.5.0//NONSGML v1.0//EN
CALSCALE:GREGORIAN
METHOD:PUBLISH
X-WR-CALNAME:Generation Builders Ministries
X-ORIGINAL-URL:http://genb2.pen9creative.co.uk
X-WR-CALDESC:Events for Generation Builders Ministries
REFRESH-INTERVAL;VALUE=DURATION:PT1H
X-Robots-Tag:noindex
X-PUBLISHED-TTL:PT1H
BEGIN:VTIMEZONE
TZID:Europe/London
BEGIN:DAYLIGHT
TZOFFSETFROM:+0000
TZOFFSETTO:+0100
TZNAME:BST
DTSTART:20190331T010000
END:DAYLIGHT
BEGIN:STANDARD
TZOFFSETFROM:+0100
TZOFFSETTO:+0000
TZNAME:GMT
DTSTART:20191027T010000
END:STANDARD
END:VTIMEZONE
BEGIN:VEVENT
DTSTART;VALUE=DATE:20190721
DTEND;VALUE=DATE:20190729
DTSTAMP:20260425T213103
CREATED:20190328T130836Z
LAST-MODIFIED:20190328T130836Z
UID:1605-1563667200-1564358399@genb2.pen9creative.co.uk
SUMMARY:Mission to Mexico
DESCRIPTION:Sunday 21st July – Sunday 28th July 2019 \nMission to Mexico
URL:http://genb2.pen9creative.co.uk/events/mission-to-mexico/
CATEGORIES:International Event
END:VEVENT
END:VCALENDAR