BEGIN:VCALENDAR
VERSION:2.0
PRODID:-//Generation Builders Ministries - ECPv6.5.0//NONSGML v1.0//EN
CALSCALE:GREGORIAN
METHOD:PUBLISH
X-WR-CALNAME:Generation Builders Ministries
X-ORIGINAL-URL:http://genb2.pen9creative.co.uk
X-WR-CALDESC:Events for Generation Builders Ministries
REFRESH-INTERVAL;VALUE=DURATION:PT1H
X-Robots-Tag:noindex
X-PUBLISHED-TTL:PT1H
BEGIN:VTIMEZONE
TZID:Europe/London
BEGIN:DAYLIGHT
TZOFFSETFROM:+0000
TZOFFSETTO:+0100
TZNAME:BST
DTSTART:20190331T010000
END:DAYLIGHT
BEGIN:STANDARD
TZOFFSETFROM:+0100
TZOFFSETTO:+0000
TZNAME:GMT
DTSTART:20191027T010000
END:STANDARD
BEGIN:DAYLIGHT
TZOFFSETFROM:+0000
TZOFFSETTO:+0100
TZNAME:BST
DTSTART:20200329T010000
END:DAYLIGHT
BEGIN:STANDARD
TZOFFSETFROM:+0100
TZOFFSETTO:+0000
TZNAME:GMT
DTSTART:20201025T010000
END:STANDARD
END:VTIMEZONE
BEGIN:VEVENT
DTSTART;TZID=Europe/London:20190602T103000
DTEND;TZID=Europe/London:20190602T130000
DTSTAMP:20260426T035133
CREATED:20190402T085231Z
LAST-MODIFIED:20190402T085232Z
UID:1683-1559471400-1559480400@genb2.pen9creative.co.uk
SUMMARY:Cross Tabernacle\, Terre Haute\, Indiana
DESCRIPTION:Sunday 2nd June: Cross Tabernacle\, Terre Haute\, Indiana (AM)
URL:http://genb2.pen9creative.co.uk/events/cross-tabernacle-terre-haute-indiana/
CATEGORIES:International Event
END:VEVENT
BEGIN:VEVENT
DTSTART;TZID=Europe/London:20190602T180000
DTEND;TZID=Europe/London:20190602T200000
DTSTAMP:20260426T035133
CREATED:20190402T085259Z
LAST-MODIFIED:20190402T085259Z
UID:1685-1559498400-1559505600@genb2.pen9creative.co.uk
SUMMARY:Calvary Family Church\, Saint Jacob\, Illinois
DESCRIPTION:Sunday 2nd June: Calvary Family Church\, Saint Jacob\, Illinois (PM)
URL:http://genb2.pen9creative.co.uk/events/calvary-family-church-saint-jacob-illinois/
CATEGORIES:International Event
END:VEVENT
BEGIN:VEVENT
DTSTART;VALUE=DATE:20190721
DTEND;VALUE=DATE:20190729
DTSTAMP:20260426T035133
CREATED:20190328T130836Z
LAST-MODIFIED:20190328T130836Z
UID:1605-1563667200-1564358399@genb2.pen9creative.co.uk
SUMMARY:Mission to Mexico
DESCRIPTION:Sunday 21st July – Sunday 28th July 2019 \nMission to Mexico
URL:http://genb2.pen9creative.co.uk/events/mission-to-mexico/
CATEGORIES:International Event
END:VEVENT
BEGIN:VEVENT
DTSTART;TZID=Europe/London:20200301T103000
DTEND;TZID=Europe/London:20200301T130000
DTSTAMP:20260426T035133
CREATED:20191229T101652Z
LAST-MODIFIED:20191229T101652Z
UID:1736-1583058600-1583067600@genb2.pen9creative.co.uk
SUMMARY:City On A Hill\, USA
DESCRIPTION:City On A Hill\n1st March\n10.30 am\n3132 Mozart Ave\, Cincinnati\, OH 45211\, United States
URL:http://genb2.pen9creative.co.uk/events/city-on-a-hill-usa/
CATEGORIES:International Event
END:VEVENT
BEGIN:VEVENT
DTSTART;VALUE=DATE:20200304
DTEND;VALUE=DATE:20200305
DTSTAMP:20260426T035133
CREATED:20191229T101727Z
LAST-MODIFIED:20191229T101727Z
UID:1738-1583280000-1583366399@genb2.pen9creative.co.uk
SUMMARY:Trinity World Outreach Center\, USA
DESCRIPTION:Trinity World Outreach Center\n4th March\n10307 Seatonville Rd\, Louisville\, KY 40291\, United States
URL:http://genb2.pen9creative.co.uk/events/trinity-world-outreach-center-usa/
CATEGORIES:International Event
END:VEVENT
BEGIN:VEVENT
DTSTART;VALUE=DATE:20200305
DTEND;VALUE=DATE:20200308
DTSTAMP:20260426T035133
CREATED:20191229T101755Z
LAST-MODIFIED:20191229T101755Z
UID:1740-1583366400-1583625599@genb2.pen9creative.co.uk
SUMMARY:Cross Tabernacle\, USA
DESCRIPTION:Cross Tabernacle\n5th-7th March\n2929 N 7th St\, Terre Haute\, IN 47804\, United States
URL:http://genb2.pen9creative.co.uk/events/cross-tabernacle-usa/
CATEGORIES:International Event
END:VEVENT
BEGIN:VEVENT
DTSTART;VALUE=DATE:20200308
DTEND;VALUE=DATE:20200309
DTSTAMP:20260426T035133
CREATED:20191229T101817Z
LAST-MODIFIED:20191229T101817Z
UID:1742-1583625600-1583711999@genb2.pen9creative.co.uk
SUMMARY:Victory Christian Fellowship
DESCRIPTION:Victory Christian Fellowship\n8th March\n1330 US-30 BUS\, Columbia City\, IN 46725\, United States
URL:http://genb2.pen9creative.co.uk/events/victory-christian-fellowship/
CATEGORIES:International Event
END:VEVENT
BEGIN:VEVENT
DTSTART;VALUE=DATE:20200311
DTEND;VALUE=DATE:20200312
DTSTAMP:20260426T035133
CREATED:20191229T101842Z
LAST-MODIFIED:20191229T101842Z
UID:1744-1583884800-1583971199@genb2.pen9creative.co.uk
SUMMARY:Monon Community Church Assembly of God\, USA
DESCRIPTION:Monon Community Church Assembly of God\n11th March\n500 E Broadway St\, Monon\, IN 47959\, United States
URL:http://genb2.pen9creative.co.uk/events/monon-community-church-assembly-of-god-usa/
CATEGORIES:International Event
END:VEVENT
BEGIN:VEVENT
DTSTART;VALUE=DATE:20200326
DTEND;VALUE=DATE:20200406
DTSTAMP:20260426T035133
CREATED:20191229T102027Z
LAST-MODIFIED:20191229T102027Z
UID:1752-1585180800-1586131199@genb2.pen9creative.co.uk
SUMMARY:South Africa Mission
DESCRIPTION:26th March – 5th April\nSouth Africa Mission
URL:http://genb2.pen9creative.co.uk/events/south-africa-mission/
CATEGORIES:International Event
END:VEVENT
BEGIN:VEVENT
DTSTART;VALUE=DATE:20200504
DTEND;VALUE=DATE:20200511
DTSTAMP:20260426T035133
CREATED:20191229T102152Z
LAST-MODIFIED:20191229T102152Z
UID:1758-1588550400-1589155199@genb2.pen9creative.co.uk
SUMMARY:Mission to Albania
DESCRIPTION:4th-10th May\nMission to Albania
URL:http://genb2.pen9creative.co.uk/events/mission-to-albania-2/
CATEGORIES:International Event
END:VEVENT
BEGIN:VEVENT
DTSTART;VALUE=DATE:20200522
DTEND;VALUE=DATE:20200527
DTSTAMP:20260426T035133
CREATED:20191229T102340Z
LAST-MODIFIED:20191229T102340Z
UID:1764-1590105600-1590537599@genb2.pen9creative.co.uk
SUMMARY:Mission to Gibraltar
DESCRIPTION:22nd-26th May\nMission to Gibraltar
URL:http://genb2.pen9creative.co.uk/events/mission-to-gibraltar/
CATEGORIES:International Event
END:VEVENT
END:VCALENDAR